BEGIN:VCALENDAR
VERSION:2.0
METHOD:PUBLISH
X-WR-CALNAME:VFEK |  július 27 2011- július 27 2011
PRODID:-//strange bird labs//Drupal iCal API//EN
BEGIN:VEVENT
DTSTAMP;VALUE=DATE-TIME:20260420T073229Z
DTSTART;VALUE=DATE-TIME:20110705T150000Z
DTEND;VALUE=DATE-TIME:20110729T170000Z
UID:http://portal.vfmk.hu/node/1430
URL;VALUE=URI:http://portal.vfmk.hu/node/1430
SUMMARY:Kiállítás - Liszt Ferenc
DESCRIPTION:<p class=\\"rtecenter\\"><span style=\\"font-size\: small\; \\"><span style=\\"font-family\: Verdana\; \\">A Verseghy Ferenc K&ouml\;nyvt&aacute\;r &eacute\;s Művelőd&eacute\;si Int&eacute\;zet<br />
 tisztelettel megh&iacute\;vja &Ouml\;nt az</span></span></p>
 <p class=\\"rtecenter\\"><span style=\\"font-size\: small\; \\"><span style=\\"font-size\: medium\; \\"><strong><span style=\\"font-family\: Verdana\; \\">Eur&oacute\;pai &eacute\;s magyar<br />
 Liszt Ferenc (1811-1886)</span></strong></span></span></p>
 <p class=\\"rtecenter\\"><span style=\\"font-size\: small\; \\"><span style=\\"font-family\: Verdana\; \\">c&iacute\;mű tabl&oacute\;ki&aacute\;ll&iacute\;t&aacute\;s megnyit&oacute\;j&aacute\;ra<br />
 2011. <strong>j&uacute\;lius 5</strong>-&eacute\;n <strong>16.00</strong> &oacute\;r&aacute\;ra<br />
 a Műv&eacute\;szeti Szalonba<br />
 (Kossuth&nbsp\;t&eacute\;r 2.)</span></span></p>
 <p><span style=\\"font-size\: small\; \\"><span style=\\"font-family\: Verdana\; \\">A t&aacute\;rlatot megnyitja <em>Tak&aacute\;ts B&eacute\;la</em>\, a Verseghy K&ouml\;nyvt&aacute\;r&nbsp\;igazgat&oacute\;helyettese\,<br />
 Liszt-művekkel k&ouml\;zreműk&ouml\;dik a <em>K&ouml\;nyvt&aacute\;rosok K&oacute\;rusa</em>.</span></span></p>
 <p class=\\"rtejustify\\"><span style=\\"font-size\: small\; \\"><span style=\\"font-family\: Verdana\; \\">A ki&aacute\;ll&iacute\;t&aacute\;s a Liszt Ferenc Eml&eacute\;km&uacute\;zeum &eacute\;s Kutat&oacute\;k&ouml\;zpont\,&nbsp\;a Nemzeti Kultur&aacute\;lis Alap &eacute\;s a Liszt M&uacute\;zeum Alap&iacute\;tv&aacute\;ny&nbsp\;t&aacute\;mogat&aacute\;s&aacute\;val j&ouml\;tt l&eacute\;tre.</span></span></p>
 <p><span style=\\"font-size\: small\; \\"><span style=\\"font-family\: Verdana\; \\">&nbsp\;</span></span></p>
END:VEVENT
END:VCALENDAR
